BEGIN:VCALENDAR
VERSION:2.0
PRODID:KKTIX
CALSCALE:GREGORIAN
METHOD:PUBLISH
BEGIN:VTIMEZONE
TZID:Asia/Taipei
END:VTIMEZONE
BEGIN:VEVENT
DTSTAMP:20260422T163553Z
UID:ac747c2e-e394-4926-9b88-e56d8a621448
DTSTART:20260523T043000Z
DTEND:20260523T103000Z
CLASS:PUBLIC
DESCRIPTION:https://welcome-music.kktix.cc/events/ebefc38a
LOCATION: (台北市大安區敦化南路二段201號) 台北遠東香格
 里拉飯店 香格里拉宴會廳    
SUMMARY:BEYOOOOONDS Fan Meeting in Taipei
END:VEVENT
END:VCALENDAR
